BEGIN:VCALENDAR
VERSION:2.0
CREATED:20260424T114351Z
PRODID:-//DMC Global Inc./Equisolve Calendar v1.0//EN
METHOD:PUBLISH
BEGIN:VEVENT
UID:bc10ea4685f9177a786cbfaeb7372d1f
DTSTAMP:20260425T123230Z
DTSTART:20260430T210000Z
DTEND:20260430T220000Z
SUMMARY:DMC Global First Quarter Earnings Call
DESCRIPTION:DMC Global First Quarter Earnings Call
Date: Apr 30\, 2026 5:00 pm EDT
Webcast: https://event.choruscall.com/mediaframe/webcast.html?webcastid=bHcTbFnv
END:VEVENT
END:VCALENDAR
